Workbook

Sheet données Admin
B2: Version 2 - février 2020 | C2: BTS électrotechnique
C4: Grilles d'évaluation "par CCF" de l'unité E4
B6: Paramètres "A COMPLETER"
B8: Année scolaire | C8: 2021-22
B10: session | C10: 2022
B12: Prénom | C12: Prénom 1
B14: Nom | C14: Nom 1
B16: Date Naissance | C16: 01/01/2002
B18: N° candidat | C18: A2022 0000 0000
B25: Remplir les zones colorées dans la zone "Paramètres" ci-dessus
B27: Dans l’onglet U4, l’ensemble des questions du sujet d’écrit E4 est reporté par compétences professionnelles correspondantes et critères d’observation de la compétence associée. Pour chaque question, la connaissance ou capacité exigible du référentiel évaluée est précisée. Dans l'onglet BDD_Questions (Base de données), une échelle descriptive à quatre niveaux est proposée par les concepteurs de sujet pour permettre le positionnement de l’évaluation. L'équipe de correcteurs (1 enseignant de physique-chimie et 1 enseignant de STI) positionne le niveau de maîtrise pour chaque question (par un "X" sur 1 des 4 niveaux) au regard de la copie du candidat. Seules les cases grisées sont à compléter par les correcteurs. Le report se fait automatiquement dans l'onglet U4. Le pourcentage de maîtrise des compétences C5, C6, C8 et C10 est alors automatiquement calculé. Le poids de chaque question et donc des compétences est arrêté par les concepteurs de sujet. En fonction du poids de chacune de ces quatre compétences (calculé à partir du barème), une proposition de note sur 20 est générée en bas de feuille. Les correcteurs saisissent la note finale proposée au jury (cellule jaune) et portent une appréciation littérale. Ils complètent la date et l'identité de ses membres.
B29: Le fichier est enregistré avec Nom et Prénom du candidat puis communiqué au centre de délibération
B30: sur un support conforme aux consignes du chef de centre.
B32: Saisir la note du candidat dans l'application institutionelle, conformément aux instructions académiques
B33: et en accord avec les instructions du chef de centre d'examen.

Sheet niveau d'évaluation
D2: ='données Admin'!C2 -> BTS électrotechnique
B3: ='données Admin'!B2 -> Version 2 - février 2020
D4: ='données Admin'!C4 -> Grilles d'évaluation "par CCF" de l'unité E4
D6: Explication des niveaux d'évaluation des compétences
F7: Poids relatif du niveau de maîtrise d'une compétence
B8: N1 | D8: Compétence non acquise | F8: 0
D9: Niveau d'acquisition très insuffisant : le candidat ne peut pas travailler sans être très souvent accompagné et aidé.
B11: N2 | D11: Compétence "en cours d'acquisition" non stabilisée | F11: 0.4
D12: Niveau d'acquisition fragile qui nécessite un accompagnement régulier pour effectuer le travail confié.
B14: N3 | D14: Compétence "partiellement acquise" | F14: 0.75
D15: Niveau d'acquisition incomplet : le transfert de la compétence n'est pas total dans chaque situation de travail proposée, une aide est parfois requise notamment lors d'une situation de travail nouvelle.
B17: N4 | D17: Compétence totalement acquise et transférable | F17: 1
D18: Niveau d'acquisition complet : le candidat travaille en toute autonomie, il sait s'adapter et transférer la compétence dans toutes les situations sans aide.

Sheet U4
B2: ='données Admin'!C2 -> BTS électrotechnique | E2: U4 : conception - ètude préliminaire
C3: Version1-février 2020 Evaluation ponctuelle écrite - session | F3: ='données Admin'!C10 -> 2022
C4: identité du candidat | E4: ='données Admin'!C12 -> Prénom 1 | F4: ='données Admin'!C14 -> Nom 1
C5: n° candidat | E5: ='données Admin'!C18 -> A2022 0000 0000
C6: Coefficient : 5 | F6: N1 | G6: N2 | H6: N3 | I6: N4
C7: Critères d’observation de la compétence | D7: Question | E7: Connaissance ou capacité exigible | F7: ='niveau d''évaluation'!F8 -> 0 | G7: ='niveau d''évaluation'!F11 -> 0.4 | H7: ='niveau d''évaluation'!F14 -> 0.75 | I7: ='niveau d''évaluation'!F17 -> 1 | K7: Score
B9: =L9/L$50 -> 0.30208333 | C9: C5 : interpréter un besoin client/utilisateur, un CCTP, un cahier des charges | F9: =K9/L9 -> 0.72758621 | K9: =SUM(K10:K19) -> 10.55 | L9: =SUM(L10:L19) -> 14.5
C10: Les besoins et les attentes du client/utilisateur sont identifiés, recensés et reformulés | D10: D1 | E10: =IF(VLOOKUP($D10,BDD_Questions!$A$8:$L$81,2,FALSE)=0,"",VLOOKUP($D10,BDD_Questions!$A$8:$L$81,2,FALSE)) -> Ressources et outils professionnels / Ressources documentaires & Caractéristiques des infrastructures | F10: =IF(VLOOKUP($D10,BDD_Questions!$A$8:$L$81,5,FALSE)=0,"",VLOOKUP($D10,BDD_Questions!$A$8:$L$81,5,FALSE)) | G10: =IF(VLOOKUP($D10,BDD_Questions!$A$8:$L$81,7,FALSE)=0,"",VLOOKUP($D10,BDD_Questions!$A$8:$L$81,7,FALSE)) | H10: =IF(VLOOKUP($D10,BDD_Questions!$A$8:$L$81,9,FALSE)=0,"",VLOOKUP($D10,BDD_Questions!$A$8:$L$81,9,FALSE)) | I10: =IF(VLOOKUP($D10,BDD_Questions!$A$8:$L$81,11,FALSE)=0,"",VLOOKUP($D10,BDD_Questions!$A$8:$L$81,11,FALSE)) -> x | K10: =IF(COUNTBLANK(F10) + COUNTBLANK(G10) + COUNTBLANK(H10)+ COUNTBLANK(I10 )= 3,SUM(M10:P10),"erreur") -> 2 | L10: =VLOOKUP($D10,BDD_Questions!$A$8:$L$81,12,FALSE) -> 2 | M10: =IF(COUNTBLANK(F10)=1,0,$L10*$M$7) -> 0 | N10: =IF(COUNTBLANK(G10)=1,0,$L10*$G$7) -> 0 | O10: =IF(COUNTBLANK(H10)=1,0,$L10*$H$7) -> 0 | P10: =IF(COUNTBLANK(I10)=1,0,$L10*$I$7) -> 2
D11: D2 | E11: =IF(VLOOKUP($D11,BDD_Questions!$A$8:$L$81,2,FALSE)=0,"",VLOOKUP($D11,BDD_Questions!$A$8:$L$81,2,FALSE)) -> Ressources et outils professionnels / Ressources documentaires & Caractéristiques des infrastructures | F11: =IF(VLOOKUP($D11,BDD_Questions!$A$8:$L$81,5,FALSE)=0,"",VLOOKUP($D11,BDD_Questions!$A$8:$L$81,5,FALSE)) | G11: =IF(VLOOKUP($D11,BDD_Questions!$A$8:$L$81,7,FALSE)=0,"",VLOOKUP($D11,BDD_Questions!$A$8:$L$81,7,FALSE)) | H11: =IF(VLOOKUP($D11,BDD_Questions!$A$8:$L$81,9,FALSE)=0,"",VLOOKUP($D11,BDD_Questions!$A$8:$L$81,9,FALSE)) | I11: =IF(VLOOKUP($D11,BDD_Questions!$A$8:$L$81,11,FALSE)=0,"",VLOOKUP($D11,BDD_Questions!$A$8:$L$81,11,FALSE)) -> x | K11: =IF(COUNTBLANK(F11) + COUNTBLANK(G11) + COUNTBLANK(H11)+ COUNTBLANK(I11 )= 3,SUM(M11:P11),"erreur") -> 2 | L11: =VLOOKUP($D11,BDD_Questions!$A$8:$L$81,12,FALSE) -> 2 | M11: =IF(COUNTBLANK(F11)=1,0,$L11*$M$7) -> 0 | N11: =IF(COUNTBLANK(G11)=1,0,$L11*$G$7) -> 0 | O11: =IF(COUNTBLANK(H11)=1,0,$L11*$H$7) -> 0 | P11: =IF(COUNTBLANK(I11)=1,0,$L11*$I$7) -> 2
C12: Les informations à acquérir, leur nature, leur flux, leur traitement sont déterminés, quantifiées et caractérisées | D12: A2 | E12: =IF(VLOOKUP($D12,BDD_Questions!$A$8:$L$81,2,FALSE)=0,"",VLOOKUP($D12,BDD_Questions!$A$8:$L$81,2,FALSE)) -> Connaître et utiliser les différentes expressions des puissances (p 80) | F12: =IF(VLOOKUP($D12,BDD_Questions!$A$8:$L$81,5,FALSE)=0,"",VLOOKUP($D12,BDD_Questions!$A$8:$L$81,5,FALSE)) | G12: =IF(VLOOKUP($D12,BDD_Questions!$A$8:$L$81,7,FALSE)=0,"",VLOOKUP($D12,BDD_Questions!$A$8:$L$81,7,FALSE)) | H12: =IF(VLOOKUP($D12,BDD_Questions!$A$8:$L$81,9,FALSE)=0,"",VLOOKUP($D12,BDD_Questions!$A$8:$L$81,9,FALSE)) -> x | I12: =IF(VLOOKUP($D12,BDD_Questions!$A$8:$L$81,11,FALSE)=0,"",VLOOKUP($D12,BDD_Questions!$A$8:$L$81,11,FALSE)) | K12: =IF(COUNTBLANK(F12) + COUNTBLANK(G12) + COUNTBLANK(H12)+ COUNTBLANK(I12 )= 3,SUM(M12:P12),"erreur") -> 0.75 | L12: =VLOOKUP($D12,BDD_Questions!$A$8:$L$81,12,FALSE) -> 1 | M12: =IF(COUNTBLANK(F12)=1,0,$L12*$M$7) -> 0 | N12: =IF(COUNTBLANK(G12)=1,0,$L12*$G$7) -> 0 | O12: =IF(COUNTBLANK(H12)=1,0,$L12*$H$7) -> 0.75 | P12: =IF(COUNTBLANK(I12)=1,0,$L12*$I$7) -> 0
D13: A4 | E13: =IF(VLOOKUP($D13,BDD_Questions!$A$8:$L$81,2,FALSE)=0,"",VLOOKUP($D13,BDD_Questions!$A$8:$L$81,2,FALSE)) -> Définir le réseau triphasé équilibré (p 79) | F13: =IF(VLOOKUP($D13,BDD_Questions!$A$8:$L$81,5,FALSE)=0,"",VLOOKUP($D13,BDD_Questions!$A$8:$L$81,5,FALSE)) -> x | G13: =IF(VLOOKUP($D13,BDD_Questions!$A$8:$L$81,7,FALSE)=0,"",VLOOKUP($D13,BDD_Questions!$A$8:$L$81,7,FALSE)) | H13: =IF(VLOOKUP($D13,BDD_Questions!$A$8:$L$81,9,FALSE)=0,"",VLOOKUP($D13,BDD_Questions!$A$8:$L$81,9,FALSE)) | I13: =IF(VLOOKUP($D13,BDD_Questions!$A$8:$L$81,11,FALSE)=0,"",VLOOKUP($D13,BDD_Questions!$A$8:$L$81,11,FALSE)) | K13: =IF(COUNTBLANK(F13) + COUNTBLANK(G13) + COUNTBLANK(H13)+ COUNTBLANK(I13 )= 3,SUM(M13:P13),"erreur") -> 0 | L13: =VLOOKUP($D13,BDD_Questions!$A$8:$L$81,12,FALSE) -> 0.5 | M13: =IF(COUNTBLANK(F13)=1,0,$L13*$M$7) -> 0 | N13: =IF(COUNTBLANK(G13)=1,0,$L13*$G$7) -> 0 | O13: =IF(COUNTBLANK(H13)=1,0,$L13*$H$7) -> 0 | P13: =IF(COUNTBLANK(I13)=1,0,$L13*$I$7) -> 0
D14: C1 | E14: =IF(VLOOKUP($D14,BDD_Questions!$A$8:$L$81,2,FALSE)=0,"",VLOOKUP($D14,BDD_Questions!$A$8:$L$81,2,FALSE)) -> Définir les grandeurs cinématiques (page 84) | F14: =IF(VLOOKUP($D14,BDD_Questions!$A$8:$L$81,5,FALSE)=0,"",VLOOKUP($D14,BDD_Questions!$A$8:$L$81,5,FALSE)) -> x | G14: =IF(VLOOKUP($D14,BDD_Questions!$A$8:$L$81,7,FALSE)=0,"",VLOOKUP($D14,BDD_Questions!$A$8:$L$81,7,FALSE)) | H14: =IF(VLOOKUP($D14,BDD_Questions!$A$8:$L$81,9,FALSE)=0,"",VLOOKUP($D14,BDD_Questions!$A$8:$L$81,9,FALSE)) | I14: =IF(VLOOKUP($D14,BDD_Questions!$A$8:$L$81,11,FALSE)=0,"",VLOOKUP($D14,BDD_Questions!$A$8:$L$81,11,FALSE)) | K14: =IF(COUNTBLANK(F14) + COUNTBLANK(G14) + COUNTBLANK(H14)+ COUNTBLANK(I14 )= 3,SUM(M14:P14),"erreur") -> 0 | L14: =VLOOKUP($D14,BDD_Questions!$A$8:$L$81,12,FALSE) -> 2 | M14: =IF(COUNTBLANK(F14)=1,0,$L14*$M$7) -> 0 | N14: =IF(COUNTBLANK(G14)=1,0,$L14*$G$7) -> 0 | O14: =IF(COUNTBLANK(H14)=1,0,$L14*$H$7) -> 0 | P14: =IF(COUNTBLANK(I14)=1,0,$L14*$I$7) -> 0
C15: Les solutions techniques proposées respectent les spécifications du client/utilisateur, les contraintes normatives et réglementaires | D15: D6 | E15: =IF(VLOOKUP($D15,BDD_Questions!$A$8:$L$81,2,FALSE)=0,"",VLOOKUP($D15,BDD_Questions!$A$8:$L$81,2,FALSE)) -> Chaîne d'informations / Architecture d'un réseau de communicaton | F15: =IF(VLOOKUP($D15,BDD_Questions!$A$8:$L$81,5,FALSE)=0,"",VLOOKUP($D15,BDD_Questions!$A$8:$L$81,5,FALSE)) | G15: =IF(VLOOKUP($D15,BDD_Questions!$A$8:$L$81,7,FALSE)=0,"",VLOOKUP($D15,BDD_Questions!$A$8:$L$81,7,FALSE)) | H15: =IF(VLOOKUP($D15,BDD_Questions!$A$8:$L$81,9,FALSE)=0,"",VLOOKUP($D15,BDD_Questions!$A$8:$L$81,9,FALSE)) | I15: =IF(VLOOKUP($D15,BDD_Questions!$A$8:$L$81,11,FALSE)=0,"",VLOOKUP($D15,BDD_Questions!$A$8:$L$81,11,FALSE)) -> x | K15: =IF(COUNTBLANK(F15) + COUNTBLANK(G15) + COUNTBLANK(H15)+ COUNTBLANK(I15 )= 3,SUM(M15:P15),"erreur") -> 1 | L15: =VLOOKUP($D15,BDD_Questions!$A$8:$L$81,12,FALSE) -> 1 | M15: =IF(COUNTBLANK(F15)=1,0,$L15*$M$7) -> 0 | N15: =IF(COUNTBLANK(G15)=1,0,$L15*$G$7) -> 0 | O15: =IF(COUNTBLANK(H15)=1,0,$L15*$H$7) -> 0 | P15: =IF(COUNTBLANK(I15)=1,0,$L15*$I$7) -> 1
C16: Le flux d’énergie et les transformations sont déterminés | D16: D3 | E16: =IF(VLOOKUP($D16,BDD_Questions!$A$8:$L$81,2,FALSE)=0,"",VLOOKUP($D16,BDD_Questions!$A$8:$L$81,2,FALSE)) -> Chaîne de puissance / Fonctions d'usage. | F16: =IF(VLOOKUP($D16,BDD_Questions!$A$8:$L$81,5,FALSE)=0,"",VLOOKUP($D16,BDD_Questions!$A$8:$L$81,5,FALSE)) | G16: =IF(VLOOKUP($D16,BDD_Questions!$A$8:$L$81,7,FALSE)=0,"",VLOOKUP($D16,BDD_Questions!$A$8:$L$81,7,FALSE)) | H16: =IF(VLOOKUP($D16,BDD_Questions!$A$8:$L$81,9,FALSE)=0,"",VLOOKUP($D16,BDD_Questions!$A$8:$L$81,9,FALSE)) | I16: =IF(VLOOKUP($D16,BDD_Questions!$A$8:$L$81,11,FALSE)=0,"",VLOOKUP($D16,BDD_Questions!$A$8:$L$81,11,FALSE)) -> x | K16: =IF(COUNTBLANK(F16) + COUNTBLANK(G16) + COUNTBLANK(H16)+ COUNTBLANK(I16 )= 3,SUM(M16:P16),"erreur") -> 1 | L16: =VLOOKUP($D16,BDD_Questions!$A$8:$L$81,12,FALSE) -> 1 | M16: =IF(COUNTBLANK(F16)=1,0,$L16*$M$7) -> 0 | N16: =IF(COUNTBLANK(G16)=1,0,$L16*$G$7) -> 0 | O16: =IF(COUNTBLANK(H16)=1,0,$L16*$H$7) -> 0 | P16: =IF(COUNTBLANK(I16)=1,0,$L16*$I$7) -> 1
D17: D4 | E17: =IF(VLOOKUP($D17,BDD_Questions!$A$8:$L$81,2,FALSE)=0,"",VLOOKUP($D17,BDD_Questions!$A$8:$L$81,2,FALSE)) -> Chaîne de puissance / Fonctions d'usage. | F17: =IF(VLOOKUP($D17,BDD_Questions!$A$8:$L$81,5,FALSE)=0,"",VLOOKUP($D17,BDD_Questions!$A$8:$L$81,5,FALSE)) | G17: =IF(VLOOKUP($D17,BDD_Questions!$A$8:$L$81,7,FALSE)=0,"",VLOOKUP($D17,BDD_Questions!$A$8:$L$81,7,FALSE)) -> x | H17: =IF(VLOOKUP($D17,BDD_Questions!$A$8:$L$81,9,FALSE)=0,"",VLOOKUP($D17,BDD_Questions!$A$8:$L$81,9,FALSE)) | I17: =IF(VLOOKUP($D17,BDD_Questions!$A$8:$L$81,11,FALSE)=0,"",VLOOKUP($D17,BDD_Questions!$A$8:$L$81,11,FALSE)) | K17: =IF(COUNTBLANK(F17) + COUNTBLANK(G17) + COUNTBLANK(H17)+ COUNTBLANK(I17 )= 3,SUM(M17:P17),"erreur") -> 0.8 | L17: =VLOOKUP($D17,BDD_Questions!$A$8:$L$81,12,FALSE) -> 2 | M17: =IF(COUNTBLANK(F17)=1,0,$L17*$M$7) -> 0 | N17: =IF(COUNTBLANK(G17)=1,0,$L17*$G$7) -> 0.8 | O17: =IF(COUNTBLANK(H17)=1,0,$L17*$H$7) -> 0 | P17: =IF(COUNTBLANK(I17)=1,0,$L17*$I$7) -> 0
C18: Le bilan des puissances est établi | D18: A1 | E18: =IF(VLOOKUP($D18,BDD_Questions!$A$8:$L$81,2,FALSE)=0,"",VLOOKUP($D18,BDD_Questions!$A$8:$L$81,2,FALSE)) -> Savoir faire un bilan de puissance (page 80) | F18: =IF(VLOOKUP($D18,BDD_Questions!$A$8:$L$81,5,FALSE)=0,"",VLOOKUP($D18,BDD_Questions!$A$8:$L$81,5,FALSE)) | G18: =IF(VLOOKUP($D18,BDD_Questions!$A$8:$L$81,7,FALSE)=0,"",VLOOKUP($D18,BDD_Questions!$A$8:$L$81,7,FALSE)) | H18: =IF(VLOOKUP($D18,BDD_Questions!$A$8:$L$81,9,FALSE)=0,"",VLOOKUP($D18,BDD_Questions!$A$8:$L$81,9,FALSE)) | I18: =IF(VLOOKUP($D18,BDD_Questions!$A$8:$L$81,11,FALSE)=0,"",VLOOKUP($D18,BDD_Questions!$A$8:$L$81,11,FALSE)) -> x | K18: =IF(COUNTBLANK(F18) + COUNTBLANK(G18) + COUNTBLANK(H18)+ COUNTBLANK(I18 )= 3,SUM(M18:P18),"erreur") -> 1 | L18: =VLOOKUP($D18,BDD_Questions!$A$8:$L$81,12,FALSE) -> 1 | M18: =IF(COUNTBLANK(F18)=1,0,$L18*$M$7) -> 0 | N18: =IF(COUNTBLANK(G18)=1,0,$L18*$G$7) -> 0 | O18: =IF(COUNTBLANK(H18)=1,0,$L18*$H$7) -> 0 | P18: =IF(COUNTBLANK(I18)=1,0,$L18*$I$7) -> 1
C19: Les coûts sont est établies et justifiées | D19: D8 | E19: =IF(VLOOKUP($D19,BDD_Questions!$A$8:$L$81,2,FALSE)=0,"",VLOOKUP($D19,BDD_Questions!$A$8:$L$81,2,FALSE)) -> Ressources et outils professionnels / Techniques de chiffrage d'un équipement électrique | F19: =IF(VLOOKUP($D19,BDD_Questions!$A$8:$L$81,5,FALSE)=0,"",VLOOKUP($D19,BDD_Questions!$A$8:$L$81,5,FALSE)) | G19: =IF(VLOOKUP($D19,BDD_Questions!$A$8:$L$81,7,FALSE)=0,"",VLOOKUP($D19,BDD_Questions!$A$8:$L$81,7,FALSE)) | H19: =IF(VLOOKUP($D19,BDD_Questions!$A$8:$L$81,9,FALSE)=0,"",VLOOKUP($D19,BDD_Questions!$A$8:$L$81,9,FALSE)) | I19: =IF(VLOOKUP($D19,BDD_Questions!$A$8:$L$81,11,FALSE)=0,"",VLOOKUP($D19,BDD_Questions!$A$8:$L$81,11,FALSE)) -> x | K19: =IF(COUNTBLANK(F19) + COUNTBLANK(G19) + COUNTBLANK(H19)+ COUNTBLANK(I19 )= 3,SUM(M19:P19),"erreur") -> 2 | L19: =VLOOKUP($D19,BDD_Questions!$A$8:$L$81,12,FALSE) -> 2 | M19: =IF(COUNTBLANK(F19)=1,0,$L19*$M$7) -> 0 | N19: =IF(COUNTBLANK(G19)=1,0,$L19*$G$7) -> 0 | O19: =IF(COUNTBLANK(H19)=1,0,$L19*$H$7) -> 0 | P19: =IF(COUNTBLANK(I19)=1,0,$L19*$I$7) -> 2
B21: =L21/L$50 -> 0.25 | C21: C6 : modéliser le comportement de tout ou partie d’un ouvrage, d’une installation, d’un équipement électrique | F21: =K21/L21 -> 0.525 | K21: =SUM(K22:K30) -> 6.3 | L21: =SUM(L22:L30) -> 12
C22: Les informations à acquérir, leur nature, leur flux, leur traitement sont déterminés | D22: A5 | E22: =IF(VLOOKUP($D22,BDD_Questions!$A$8:$L$81,2,FALSE)=0,"",VLOOKUP($D22,BDD_Questions!$A$8:$L$81,2,FALSE)) -> Exploiter les informations de la plaque signalétique d’un transformateur (p 82) | F22: =IF(VLOOKUP($D22,BDD_Questions!$A$8:$L$81,5,FALSE)=0,"",VLOOKUP($D22,BDD_Questions!$A$8:$L$81,5,FALSE)) | G22: =IF(VLOOKUP($D22,BDD_Questions!$A$8:$L$81,7,FALSE)=0,"",VLOOKUP($D22,BDD_Questions!$A$8:$L$81,7,FALSE)) -> x | H22: =IF(VLOOKUP($D22,BDD_Questions!$A$8:$L$81,9,FALSE)=0,"",VLOOKUP($D22,BDD_Questions!$A$8:$L$81,9,FALSE)) | I22: =IF(VLOOKUP($D22,BDD_Questions!$A$8:$L$81,11,FALSE)=0,"",VLOOKUP($D22,BDD_Questions!$A$8:$L$81,11,FALSE)) | K22: =IF(COUNTBLANK(F22) + COUNTBLANK(G22) + COUNTBLANK(H22)+ COUNTBLANK(I22 )= 3,SUM(M22:P22),"erreur") -> 0.8 | L22: =VLOOKUP($D22,BDD_Questions!$A$8:$L$81,12,FALSE) -> 2 | M22: =IF(COUNTBLANK(F22)=1,0,$L22*$M$7) -> 0 | N22: =IF(COUNTBLANK(G22)=1,0,$L22*$G$7) -> 0.8 | O22: =IF(COUNTBLANK(H22)=1,0,$L22*$H$7) -> 0 | P22: =IF(COUNTBLANK(I22)=1,0,$L22*$I$7) -> 0
D23: A6 | E23: =IF(VLOOKUP($D23,BDD_Questions!$A$8:$L$81,2,FALSE)=0,"",VLOOKUP($D23,BDD_Questions!$A$8:$L$81,2,FALSE)) -> Définir le rapport de transformation (p 82) | F23: =IF(VLOOKUP($D23,BDD_Questions!$A$8:$L$81,5,FALSE)=0,"",VLOOKUP($D23,BDD_Questions!$A$8:$L$81,5,FALSE)) | G23: =IF(VLOOKUP($D23,BDD_Questions!$A$8:$L$81,7,FALSE)=0,"",VLOOKUP($D23,BDD_Questions!$A$8:$L$81,7,FALSE)) | H23: =IF(VLOOKUP($D23,BDD_Questions!$A$8:$L$81,9,FALSE)=0,"",VLOOKUP($D23,BDD_Questions!$A$8:$L$81,9,FALSE)) -> x | I23: =IF(VLOOKUP($D23,BDD_Questions!$A$8:$L$81,11,FALSE)=0,"",VLOOKUP($D23,BDD_Questions!$A$8:$L$81,11,FALSE)) | K23: =IF(COUNTBLANK(F23) + COUNTBLANK(G23) + COUNTBLANK(H23)+ COUNTBLANK(I23 )= 3,SUM(M23:P23),"erreur") -> 0.75 | L23: =VLOOKUP($D23,BDD_Questions!$A$8:$L$81,12,FALSE) -> 1 | M23: =IF(COUNTBLANK(F23)=1,0,$L23*$M$7) -> 0 | N23: =IF(COUNTBLANK(G23)=1,0,$L23*$G$7) -> 0 | O23: =IF(COUNTBLANK(H23)=1,0,$L23*$H$7) -> 0.75 | P23: =IF(COUNTBLANK(I23)=1,0,$L23*$I$7) -> 0
D24: A8 | E24: =IF(VLOOKUP($D24,BDD_Questions!$A$8:$L$81,2,FALSE)=0,"",VLOOKUP($D24,BDD_Questions!$A$8:$L$81,2,FALSE)) -> Exploiter les informations de la plaque signalétique d’un transformateur (P82) | F24: =IF(VLOOKUP($D24,BDD_Questions!$A$8:$L$81,5,FALSE)=0,"",VLOOKUP($D24,BDD_Questions!$A$8:$L$81,5,FALSE)) | G24: =IF(VLOOKUP($D24,BDD_Questions!$A$8:$L$81,7,FALSE)=0,"",VLOOKUP($D24,BDD_Questions!$A$8:$L$81,7,FALSE)) | H24: =IF(VLOOKUP($D24,BDD_Questions!$A$8:$L$81,9,FALSE)=0,"",VLOOKUP($D24,BDD_Questions!$A$8:$L$81,9,FALSE)) | I24: =IF(VLOOKUP($D24,BDD_Questions!$A$8:$L$81,11,FALSE)=0,"",VLOOKUP($D24,BDD_Questions!$A$8:$L$81,11,FALSE)) -> x | K24: =IF(COUNTBLANK(F24) + COUNTBLANK(G24) + COUNTBLANK(H24)+ COUNTBLANK(I24 )= 3,SUM(M24:P24),"erreur") -> 1 | L24: =VLOOKUP($D24,BDD_Questions!$A$8:$L$81,12,FALSE) -> 1 | M24: =IF(COUNTBLANK(F24)=1,0,$L24*$M$7) -> 0 | N24: =IF(COUNTBLANK(G24)=1,0,$L24*$G$7) -> 0 | O24: =IF(COUNTBLANK(H24)=1,0,$L24*$H$7) -> 0 | P24: =IF(COUNTBLANK(I24)=1,0,$L24*$I$7) -> 1
D25: C5 | E25: =IF(VLOOKUP($D25,BDD_Questions!$A$8:$L$81,2,FALSE)=0,"",VLOOKUP($D25,BDD_Questions!$A$8:$L$81,2,FALSE)) -> Appliquer le principe fondamental de la dynamique (p 85) | F25: =IF(VLOOKUP($D25,BDD_Questions!$A$8:$L$81,5,FALSE)=0,"",VLOOKUP($D25,BDD_Questions!$A$8:$L$81,5,FALSE)) | G25: =IF(VLOOKUP($D25,BDD_Questions!$A$8:$L$81,7,FALSE)=0,"",VLOOKUP($D25,BDD_Questions!$A$8:$L$81,7,FALSE)) | H25: =IF(VLOOKUP($D25,BDD_Questions!$A$8:$L$81,9,FALSE)=0,"",VLOOKUP($D25,BDD_Questions!$A$8:$L$81,9,FALSE)) | I25: =IF(VLOOKUP($D25,BDD_Questions!$A$8:$L$81,11,FALSE)=0,"",VLOOKUP($D25,BDD_Questions!$A$8:$L$81,11,FALSE)) -> x | K25: =IF(COUNTBLANK(F25) + COUNTBLANK(G25) + COUNTBLANK(H25)+ COUNTBLANK(I25 )= 3,SUM(M25:P25),"erreur") -> 1 | L25: =VLOOKUP($D25,BDD_Questions!$A$8:$L$81,12,FALSE) -> 1 | M25: =IF(COUNTBLANK(F25)=1,0,$L25*$M$7) -> 0 | N25: =IF(COUNTBLANK(G25)=1,0,$L25*$G$7) -> 0 | O25: =IF(COUNTBLANK(H25)=1,0,$L25*$H$7) -> 0 | P25: =IF(COUNTBLANK(I25)=1,0,$L25*$I$7) -> 1
D26: C6 | E26: =IF(VLOOKUP($D26,BDD_Questions!$A$8:$L$81,2,FALSE)=0,"",VLOOKUP($D26,BDD_Questions!$A$8:$L$81,2,FALSE)) -> Calculer le moment d’un force (p 84) | F26: =IF(VLOOKUP($D26,BDD_Questions!$A$8:$L$81,5,FALSE)=0,"",VLOOKUP($D26,BDD_Questions!$A$8:$L$81,5,FALSE)) | G26: =IF(VLOOKUP($D26,BDD_Questions!$A$8:$L$81,7,FALSE)=0,"",VLOOKUP($D26,BDD_Questions!$A$8:$L$81,7,FALSE)) | H26: =IF(VLOOKUP($D26,BDD_Questions!$A$8:$L$81,9,FALSE)=0,"",VLOOKUP($D26,BDD_Questions!$A$8:$L$81,9,FALSE)) | I26: =IF(VLOOKUP($D26,BDD_Questions!$A$8:$L$81,11,FALSE)=0,"",VLOOKUP($D26,BDD_Questions!$A$8:$L$81,11,FALSE)) -> x | K26: =IF(COUNTBLANK(F26) + COUNTBLANK(G26) + COUNTBLANK(H26)+ COUNTBLANK(I26 )= 3,SUM(M26:P26),"erreur") -> 2 | L26: =VLOOKUP($D26,BDD_Questions!$A$8:$L$81,12,FALSE) -> 2 | M26: =IF(COUNTBLANK(F26)=1,0,$L26*$M$7) -> 0 | N26: =IF(COUNTBLANK(G26)=1,0,$L26*$G$7) -> 0 | O26: =IF(COUNTBLANK(H26)=1,0,$L26*$H$7) -> 0 | P26: =IF(COUNTBLANK(I26)=1,0,$L26*$I$7) -> 2
C27: Les solutions techniques retenues sont modélisées | D27: A7 | E27: =IF(VLOOKUP($D27,BDD_Questions!$A$8:$L$81,2,FALSE)=0,"",VLOOKUP($D27,BDD_Questions!$A$8:$L$81,2,FALSE)) -> Établir le bilan de puissance à partir d’un essai à vide et d’un essai en court-circuit (p 82) | F27: =IF(VLOOKUP($D27,BDD_Questions!$A$8:$L$81,5,FALSE)=0,"",VLOOKUP($D27,BDD_Questions!$A$8:$L$81,5,FALSE)) | G27: =IF(VLOOKUP($D27,BDD_Questions!$A$8:$L$81,7,FALSE)=0,"",VLOOKUP($D27,BDD_Questions!$A$8:$L$81,7,FALSE)) | H27: =IF(VLOOKUP($D27,BDD_Questions!$A$8:$L$81,9,FALSE)=0,"",VLOOKUP($D27,BDD_Questions!$A$8:$L$81,9,FALSE)) | I27: =IF(VLOOKUP($D27,BDD_Questions!$A$8:$L$81,11,FALSE)=0,"",VLOOKUP($D27,BDD_Questions!$A$8:$L$81,11,FALSE)) -> x | K27: =IF(COUNTBLANK(F27) + COUNTBLANK(G27) + COUNTBLANK(H27)+ COUNTBLANK(I27 )= 3,SUM(M27:P27),"erreur") -> 0 | L27: =VLOOKUP($D27,BDD_Questions!$A$8:$L$81,12,FALSE) -> 2
D28: A9 | E28: =IF(VLOOKUP($D28,BDD_Questions!$A$8:$L$81,2,FALSE)=0,"",VLOOKUP($D28,BDD_Questions!$A$8:$L$81,2,FALSE)) -> Exploiter le modèle de Kapp (p 83) | F28: =IF(VLOOKUP($D28,BDD_Questions!$A$8:$L$81,5,FALSE)=0,"",VLOOKUP($D28,BDD_Questions!$A$8:$L$81,5,FALSE)) | G28: =IF(VLOOKUP($D28,BDD_Questions!$A$8:$L$81,7,FALSE)=0,"",VLOOKUP($D28,BDD_Questions!$A$8:$L$81,7,FALSE)) | H28: =IF(VLOOKUP($D28,BDD_Questions!$A$8:$L$81,9,FALSE)=0,"",VLOOKUP($D28,BDD_Questions!$A$8:$L$81,9,FALSE)) -> X | I28: =IF(VLOOKUP($D28,BDD_Questions!$A$8:$L$81,11,FALSE)=0,"",VLOOKUP($D28,BDD_Questions!$A$8:$L$81,11,FALSE)) | K28: =IF(COUNTBLANK(F28) + COUNTBLANK(G28) + COUNTBLANK(H28)+ COUNTBLANK(I28 )= 3,SUM(M28:P28),"erreur") -> 0.75 | L28: =VLOOKUP($D28,BDD_Questions!$A$8:$L$81,12,FALSE) -> 1 | M28: =IF(COUNTBLANK(F28)=1,0,$L28*$M$7) -> 0 | N28: =IF(COUNTBLANK(G28)=1,0,$L28*$G$7) -> 0 | O28: =IF(COUNTBLANK(H28)=1,0,$L28*$H$7) -> 0.75 | P28: =IF(COUNTBLANK(I28)=1,0,$L28*$I$7) -> 0
C29: Le bilan des puissances établi est exact | D29: D5 | E29: =IF(VLOOKUP($D29,BDD_Questions!$A$8:$L$81,2,FALSE)=0,"",VLOOKUP($D29,BDD_Questions!$A$8:$L$81,2,FALSE)) -> Chaîne de puissance / Distribution. | F29: =IF(VLOOKUP($D29,BDD_Questions!$A$8:$L$81,5,FALSE)=0,"",VLOOKUP($D29,BDD_Questions!$A$8:$L$81,5,FALSE)) -> x | G29: =IF(VLOOKUP($D29,BDD_Questions!$A$8:$L$81,7,FALSE)=0,"",VLOOKUP($D29,BDD_Questions!$A$8:$L$81,7,FALSE)) | H29: =IF(VLOOKUP($D29,BDD_Questions!$A$8:$L$81,9,FALSE)=0,"",VLOOKUP($D29,BDD_Questions!$A$8:$L$81,9,FALSE)) | I29: =IF(VLOOKUP($D29,BDD_Questions!$A$8:$L$81,11,FALSE)=0,"",VLOOKUP($D29,BDD_Questions!$A$8:$L$81,11,FALSE)) | K29: =IF(COUNTBLANK(F29) + COUNTBLANK(G29) + COUNTBLANK(H29)+ COUNTBLANK(I29 )= 3,SUM(M29:P29),"erreur") -> 0 | L29: =VLOOKUP($D29,BDD_Questions!$A$8:$L$81,12,FALSE) -> 1 | M29: =IF(COUNTBLANK(F29)=1,0,$L29*$M$7) -> 0 | N29: =IF(COUNTBLANK(G29)=1,0,$L29*$G$7) -> 0 | O29: =IF(COUNTBLANK(H29)=1,0,$L29*$H$7) -> 0 | P29: =IF(COUNTBLANK(I29)=1,0,$L29*$I$7) -> 0
C30: Le bilan (volume/débit) des informations à traiter établi est exact | D30: D7 | E30: =IF(VLOOKUP($D30,BDD_Questions!$A$8:$L$81,2,FALSE)=0,"",VLOOKUP($D30,BDD_Questions!$A$8:$L$81,2,FALSE)) -> Chaîne d'informations / Architecture d'un réseau de communicaton | F30: =IF(VLOOKUP($D30,BDD_Questions!$A$8:$L$81,5,FALSE)=0,"",VLOOKUP($D30,BDD_Questions!$A$8:$L$81,5,FALSE)) -> x | G30: =IF(VLOOKUP($D30,BDD_Questions!$A$8:$L$81,7,FALSE)=0,"",VLOOKUP($D30,BDD_Questions!$A$8:$L$81,7,FALSE)) | H30: =IF(VLOOKUP($D30,BDD_Questions!$A$8:$L$81,9,FALSE)=0,"",VLOOKUP($D30,BDD_Questions!$A$8:$L$81,9,FALSE)) | I30: =IF(VLOOKUP($D30,BDD_Questions!$A$8:$L$81,11,FALSE)=0,"",VLOOKUP($D30,BDD_Questions!$A$8:$L$81,11,FALSE)) | K30: =IF(COUNTBLANK(F30) + COUNTBLANK(G30) + COUNTBLANK(H30)+ COUNTBLANK(I30 )= 3,SUM(M30:P30),"erreur") -> 0 | L30: =VLOOKUP($D30,BDD_Questions!$A$8:$L$81,12,FALSE) -> 1 | M30: =IF(COUNTBLANK(F30)=1,0,$L30*$M$7) -> 0 | N30: =IF(COUNTBLANK(G30)=1,0,$L30*$G$7) -> 0 | O30: =IF(COUNTBLANK(H30)=1,0,$L30*$H$7) -> 0 | P30: =IF(COUNTBLANK(I30)=1,0,$L30*$I$7) -> 0
B32: =L32/L$50 -> 0.28125 | C32: C8 : dimensionner les constituants d’un ouvrage, d’une installation, d’un équipement électrique | F32: =K32/L32 -> 0.62592593 | K32: =SUM(K33:K42) -> 8.45 | L32: =SUM(L33:L42) -> 13.5
C33: Les solutions techniques de l’avant-projet développées sont pertinentes | D33: A3 | E33: =IF(VLOOKUP($D33,BDD_Questions!$A$8:$L$81,2,FALSE)=0,"",VLOOKUP($D33,BDD_Questions!$A$8:$L$81,2,FALSE)) -> Savoir faire un bilan de puissance (p 80) | F33: =IF(VLOOKUP($D33,BDD_Questions!$A$8:$L$81,5,FALSE)=0,"",VLOOKUP($D33,BDD_Questions!$A$8:$L$81,5,FALSE)) | G33: =IF(VLOOKUP($D33,BDD_Questions!$A$8:$L$81,7,FALSE)=0,"",VLOOKUP($D33,BDD_Questions!$A$8:$L$81,7,FALSE)) | H33: =IF(VLOOKUP($D33,BDD_Questions!$A$8:$L$81,9,FALSE)=0,"",VLOOKUP($D33,BDD_Questions!$A$8:$L$81,9,FALSE)) | I33: =IF(VLOOKUP($D33,BDD_Questions!$A$8:$L$81,11,FALSE)=0,"",VLOOKUP($D33,BDD_Questions!$A$8:$L$81,11,FALSE)) -> x | K33: =IF(COUNTBLANK(F33) + COUNTBLANK(G33) + COUNTBLANK(H33)+ COUNTBLANK(I33 )= 3,SUM(M33:P33),"erreur") -> 0.5 | L33: =VLOOKUP($D33,BDD_Questions!$A$8:$L$81,12,FALSE) -> 0.5 | M33: =IF(COUNTBLANK(F33)=1,0,$L33*$M$7) -> 0 | N33: =IF(COUNTBLANK(G33)=1,0,$L33*$G$7) -> 0 | O33: =IF(COUNTBLANK(H33)=1,0,$L33*$H$7) -> 0 | P33: =IF(COUNTBLANK(I33)=1,0,$L33*$I$7) -> 0.5
D34: A10 | E34: =IF(VLOOKUP($D34,BDD_Questions!$A$8:$L$81,2,FALSE)=0,"",VLOOKUP($D34,BDD_Questions!$A$8:$L$81,2,FALSE)) -> Exploiter le modèle de Kapp (p 83) | F34: =IF(VLOOKUP($D34,BDD_Questions!$A$8:$L$81,5,FALSE)=0,"",VLOOKUP($D34,BDD_Questions!$A$8:$L$81,5,FALSE)) | G34: =IF(VLOOKUP($D34,BDD_Questions!$A$8:$L$81,7,FALSE)=0,"",VLOOKUP($D34,BDD_Questions!$A$8:$L$81,7,FALSE)) | H34: =IF(VLOOKUP($D34,BDD_Questions!$A$8:$L$81,9,FALSE)=0,"",VLOOKUP($D34,BDD_Questions!$A$8:$L$81,9,FALSE)) -> x | I34: =IF(VLOOKUP($D34,BDD_Questions!$A$8:$L$81,11,FALSE)=0,"",VLOOKUP($D34,BDD_Questions!$A$8:$L$81,11,FALSE)) | K34: =IF(COUNTBLANK(F34) + COUNTBLANK(G34) + COUNTBLANK(H34)+ COUNTBLANK(I34 )= 3,SUM(M34:P34),"erreur") -> 0.75 | L34: =VLOOKUP($D34,BDD_Questions!$A$8:$L$81,12,FALSE) -> 1 | M34: =IF(COUNTBLANK(F34)=1,0,$L34*$M$7) -> 0 | N34: =IF(COUNTBLANK(G34)=1,0,$L34*$G$7) -> 0 | O34: =IF(COUNTBLANK(H34)=1,0,$L34*$H$7) -> 0.75 | P34: =IF(COUNTBLANK(I34)=1,0,$L34*$I$7) -> 0
D35: C2 | E35: =IF(VLOOKUP($D35,BDD_Questions!$A$8:$L$81,2,FALSE)=0,"",VLOOKUP($D35,BDD_Questions!$A$8:$L$81,2,FALSE)) -> Dimensionner les éléments de conversion de mouvement (p 84) | F35: =IF(VLOOKUP($D35,BDD_Questions!$A$8:$L$81,5,FALSE)=0,"",VLOOKUP($D35,BDD_Questions!$A$8:$L$81,5,FALSE)) -> x | G35: =IF(VLOOKUP($D35,BDD_Questions!$A$8:$L$81,7,FALSE)=0,"",VLOOKUP($D35,BDD_Questions!$A$8:$L$81,7,FALSE)) | H35: =IF(VLOOKUP($D35,BDD_Questions!$A$8:$L$81,9,FALSE)=0,"",VLOOKUP($D35,BDD_Questions!$A$8:$L$81,9,FALSE)) | I35: =IF(VLOOKUP($D35,BDD_Questions!$A$8:$L$81,11,FALSE)=0,"",VLOOKUP($D35,BDD_Questions!$A$8:$L$81,11,FALSE)) | K35: =IF(COUNTBLANK(F35) + COUNTBLANK(G35) + COUNTBLANK(H35)+ COUNTBLANK(I35 )= 3,SUM(M35:P35),"erreur") -> 0 | L35: =VLOOKUP($D35,BDD_Questions!$A$8:$L$81,12,FALSE) -> 2 | M35: =IF(COUNTBLANK(F35)=1,0,$L35*$M$7) -> 0 | N35: =IF(COUNTBLANK(G35)=1,0,$L35*$G$7) -> 0 | O35: =IF(COUNTBLANK(H35)=1,0,$L35*$H$7) -> 0 | P35: =IF(COUNTBLANK(I35)=1,0,$L35*$I$7) -> 0
C36: Les solutions techniques respectent les spécifications du client/utilisateur, les contraintes normatives et réglementaires | D36: A11 | E36: =IF(VLOOKUP($D36,BDD_Questions!$A$8:$L$81,2,FALSE)=0,"",VLOOKUP($D36,BDD_Questions!$A$8:$L$81,2,FALSE)) -> Chaîne de puissance/Distribution du point de livraison à la sortie du TGBT/Dimensionner un ouvrage, une installation électrique | F36: =IF(VLOOKUP($D36,BDD_Questions!$A$8:$L$81,5,FALSE)=0,"",VLOOKUP($D36,BDD_Questions!$A$8:$L$81,5,FALSE)) | G36: =IF(VLOOKUP($D36,BDD_Questions!$A$8:$L$81,7,FALSE)=0,"",VLOOKUP($D36,BDD_Questions!$A$8:$L$81,7,FALSE)) | H36: =IF(VLOOKUP($D36,BDD_Questions!$A$8:$L$81,9,FALSE)=0,"",VLOOKUP($D36,BDD_Questions!$A$8:$L$81,9,FALSE)) | I36: =IF(VLOOKUP($D36,BDD_Questions!$A$8:$L$81,11,FALSE)=0,"",VLOOKUP($D36,BDD_Questions!$A$8:$L$81,11,FALSE)) -> x | K36: =IF(COUNTBLANK(F36) + COUNTBLANK(G36) + COUNTBLANK(H36)+ COUNTBLANK(I36 )= 3,SUM(M36:P36),"erreur") -> 1 | L36: =VLOOKUP($D36,BDD_Questions!$A$8:$L$81,12,FALSE) -> 1 | M36: =IF(COUNTBLANK(F36)=1,0,$L36*$M$7) -> 0 | N36: =IF(COUNTBLANK(G36)=1,0,$L36*$G$7) -> 0 | O36: =IF(COUNTBLANK(H36)=1,0,$L36*$H$7) -> 0 | P36: =IF(COUNTBLANK(I36)=1,0,$L36*$I$7) -> 1
D37: C3 | E37: =IF(VLOOKUP($D37,BDD_Questions!$A$8:$L$81,2,FALSE)=0,"",VLOOKUP($D37,BDD_Questions!$A$8:$L$81,2,FALSE)) -> Calculer le moment d’un force (p 84) | F37: =IF(VLOOKUP($D37,BDD_Questions!$A$8:$L$81,5,FALSE)=0,"",VLOOKUP($D37,BDD_Questions!$A$8:$L$81,5,FALSE)) -> x | G37: =IF(VLOOKUP($D37,BDD_Questions!$A$8:$L$81,7,FALSE)=0,"",VLOOKUP($D37,BDD_Questions!$A$8:$L$81,7,FALSE)) | H37: =IF(VLOOKUP($D37,BDD_Questions!$A$8:$L$81,9,FALSE)=0,"",VLOOKUP($D37,BDD_Questions!$A$8:$L$81,9,FALSE)) | I37: =IF(VLOOKUP($D37,BDD_Questions!$A$8:$L$81,11,FALSE)=0,"",VLOOKUP($D37,BDD_Questions!$A$8:$L$81,11,FALSE)) | K37: =IF(COUNTBLANK(F37) + COUNTBLANK(G37) + COUNTBLANK(H37)+ COUNTBLANK(I37 )= 3,SUM(M37:P37),"erreur") -> 0 | L37: =VLOOKUP($D37,BDD_Questions!$A$8:$L$81,12,FALSE) -> 1 | M37: =IF(COUNTBLANK(F37)=1,0,$L37*$M$7) -> 0 | N37: =IF(COUNTBLANK(G37)=1,0,$L37*$G$7) -> 0 | O37: =IF(COUNTBLANK(H37)=1,0,$L37*$H$7) -> 0 | P37: =IF(COUNTBLANK(I37)=1,0,$L37*$I$7) -> 0
D38: C4 | E38: =IF(VLOOKUP($D38,BDD_Questions!$A$8:$L$81,2,FALSE)=0,"",VLOOKUP($D38,BDD_Questions!$A$8:$L$81,2,FALSE)) -> Définir les grandeurs cinématiques (p 84) | F38: =IF(VLOOKUP($D38,BDD_Questions!$A$8:$L$81,5,FALSE)=0,"",VLOOKUP($D38,BDD_Questions!$A$8:$L$81,5,FALSE)) | G38: =IF(VLOOKUP($D38,BDD_Questions!$A$8:$L$81,7,FALSE)=0,"",VLOOKUP($D38,BDD_Questions!$A$8:$L$81,7,FALSE)) | H38: =IF(VLOOKUP($D38,BDD_Questions!$A$8:$L$81,9,FALSE)=0,"",VLOOKUP($D38,BDD_Questions!$A$8:$L$81,9,FALSE)) | I38: =IF(VLOOKUP($D38,BDD_Questions!$A$8:$L$81,11,FALSE)=0,"",VLOOKUP($D38,BDD_Questions!$A$8:$L$81,11,FALSE)) -> x | K38: =IF(COUNTBLANK(F38) + COUNTBLANK(G38) + COUNTBLANK(H38)+ COUNTBLANK(I38 )= 3,SUM(M38:P38),"erreur") -> 2 | L38: =VLOOKUP($D38,BDD_Questions!$A$8:$L$81,12,FALSE) -> 2 | M38: =IF(COUNTBLANK(F38)=1,0,$L38*$M$7) -> 0 | N38: =IF(COUNTBLANK(G38)=1,0,$L38*$G$7) -> 0 | O38: =IF(COUNTBLANK(H38)=1,0,$L38*$H$7) -> 0 | P38: =IF(COUNTBLANK(I38)=1,0,$L38*$I$7) -> 2
D39: B1 | E39: =IF(VLOOKUP($D39,BDD_Questions!$A$8:$L$81,2,FALSE)=0,"",VLOOKUP($D39,BDD_Questions!$A$8:$L$81,2,FALSE)) -> Dimensionner une batterie de condensateurs pour compenser la puissance réactive. (p 83) | F39: =IF(VLOOKUP($D39,BDD_Questions!$A$8:$L$81,5,FALSE)=0,"",VLOOKUP($D39,BDD_Questions!$A$8:$L$81,5,FALSE)) | G39: =IF(VLOOKUP($D39,BDD_Questions!$A$8:$L$81,7,FALSE)=0,"",VLOOKUP($D39,BDD_Questions!$A$8:$L$81,7,FALSE)) -> x | H39: =IF(VLOOKUP($D39,BDD_Questions!$A$8:$L$81,9,FALSE)=0,"",VLOOKUP($D39,BDD_Questions!$A$8:$L$81,9,FALSE)) | I39: =IF(VLOOKUP($D39,BDD_Questions!$A$8:$L$81,11,FALSE)=0,"",VLOOKUP($D39,BDD_Questions!$A$8:$L$81,11,FALSE)) | K39: =IF(COUNTBLANK(F39) + COUNTBLANK(G39) + COUNTBLANK(H39)+ COUNTBLANK(I39 )= 3,SUM(M39:P39),"erreur") -> 0.4 | L39: =VLOOKUP($D39,BDD_Questions!$A$8:$L$81,12,FALSE) -> 1 | M39: =IF(COUNTBLANK(F39)=1,0,$L39*$M$7) -> 0 | N39: =IF(COUNTBLANK(G39)=1,0,$L39*$G$7) -> 0.4 | O39: =IF(COUNTBLANK(H39)=1,0,$L39*$H$7) -> 0 | P39: =IF(COUNTBLANK(I39)=1,0,$L39*$I$7) -> 0
D40: B4 | E40: =IF(VLOOKUP($D40,BDD_Questions!$A$8:$L$81,2,FALSE)=0,"",VLOOKUP($D40,BDD_Questions!$A$8:$L$81,2,FALSE)) -> Chaîne de puissance/Distribution du point de livraison à la sortie du TGBT/Dimensionner un ouvrage, une installation électrique | F40: =IF(VLOOKUP($D40,BDD_Questions!$A$8:$L$81,5,FALSE)=0,"",VLOOKUP($D40,BDD_Questions!$A$8:$L$81,5,FALSE)) | G40: =IF(VLOOKUP($D40,BDD_Questions!$A$8:$L$81,7,FALSE)=0,"",VLOOKUP($D40,BDD_Questions!$A$8:$L$81,7,FALSE)) -> x | H40: =IF(VLOOKUP($D40,BDD_Questions!$A$8:$L$81,9,FALSE)=0,"",VLOOKUP($D40,BDD_Questions!$A$8:$L$81,9,FALSE)) | I40: =IF(VLOOKUP($D40,BDD_Questions!$A$8:$L$81,11,FALSE)=0,"",VLOOKUP($D40,BDD_Questions!$A$8:$L$81,11,FALSE)) | K40: =IF(COUNTBLANK(F40) + COUNTBLANK(G40) + COUNTBLANK(H40)+ COUNTBLANK(I40 )= 3,SUM(M40:P40),"erreur") -> 0.8 | L40: =VLOOKUP($D40,BDD_Questions!$A$8:$L$81,12,FALSE) -> 2 | M40: =IF(COUNTBLANK(F40)=1,0,$L40*$M$7) -> 0 | N40: =IF(COUNTBLANK(G40)=1,0,$L40*$G$7) -> 0.8 | O40: =IF(COUNTBLANK(H40)=1,0,$L40*$H$7) -> 0 | P40: =IF(COUNTBLANK(I40)=1,0,$L40*$I$7) -> 0
D41: B5 | E41: =IF(VLOOKUP($D41,BDD_Questions!$A$8:$L$81,2,FALSE)=0,"",VLOOKUP($D41,BDD_Questions!$A$8:$L$81,2,FALSE)) -> Chaîne de puissance/Distribution du point de livraison à la sortie du TGBT/Dimensionner un ouvrage, une installation électrique | F41: =IF(VLOOKUP($D41,BDD_Questions!$A$8:$L$81,5,FALSE)=0,"",VLOOKUP($D41,BDD_Questions!$A$8:$L$81,5,FALSE)) | G41: =IF(VLOOKUP($D41,BDD_Questions!$A$8:$L$81,7,FALSE)=0,"",VLOOKUP($D41,BDD_Questions!$A$8:$L$81,7,FALSE)) | H41: =IF(VLOOKUP($D41,BDD_Questions!$A$8:$L$81,9,FALSE)=0,"",VLOOKUP($D41,BDD_Questions!$A$8:$L$81,9,FALSE)) | I41: =IF(VLOOKUP($D41,BDD_Questions!$A$8:$L$81,11,FALSE)=0,"",VLOOKUP($D41,BDD_Questions!$A$8:$L$81,11,FALSE)) -> x | K41: =IF(COUNTBLANK(F41) + COUNTBLANK(G41) + COUNTBLANK(H41)+ COUNTBLANK(I41 )= 3,SUM(M41:P41),"erreur") -> 1 | L41: =VLOOKUP($D41,BDD_Questions!$A$8:$L$81,12,FALSE) -> 1 | M41: =IF(COUNTBLANK(F41)=1,0,$L41*$M$7) -> 0 | N41: =IF(COUNTBLANK(G41)=1,0,$L41*$G$7) -> 0 | O41: =IF(COUNTBLANK(H41)=1,0,$L41*$H$7) -> 0 | P41: =IF(COUNTBLANK(I41)=1,0,$L41*$I$7) -> 1
D42: B6 | E42: =IF(VLOOKUP($D42,BDD_Questions!$A$8:$L$81,2,FALSE)=0,"",VLOOKUP($D42,BDD_Questions!$A$8:$L$81,2,FALSE)) -> Chaîne de puissance/Distribution du point de livraison à la sortie du TGBT/Dimensionner un ouvrage, une installation électrique | F42: =IF(VLOOKUP($D42,BDD_Questions!$A$8:$L$81,5,FALSE)=0,"",VLOOKUP($D42,BDD_Questions!$A$8:$L$81,5,FALSE)) | G42: =IF(VLOOKUP($D42,BDD_Questions!$A$8:$L$81,7,FALSE)=0,"",VLOOKUP($D42,BDD_Questions!$A$8:$L$81,7,FALSE)) | H42: =IF(VLOOKUP($D42,BDD_Questions!$A$8:$L$81,9,FALSE)=0,"",VLOOKUP($D42,BDD_Questions!$A$8:$L$81,9,FALSE)) | I42: =IF(VLOOKUP($D42,BDD_Questions!$A$8:$L$81,11,FALSE)=0,"",VLOOKUP($D42,BDD_Questions!$A$8:$L$81,11,FALSE)) -> x | K42: =IF(COUNTBLANK(F42) + COUNTBLANK(G42) + COUNTBLANK(H42)+ COUNTBLANK(I42 )= 3,SUM(M42:P42),"erreur") -> 2 | L42: =VLOOKUP($D42,BDD_Questions!$A$8:$L$81,12,FALSE) -> 2 | M42: =IF(COUNTBLANK(F42)=1,0,$L42*$M$7) -> 0 | N42: =IF(COUNTBLANK(G42)=1,0,$L42*$G$7) -> 0 | O42: =IF(COUNTBLANK(H42)=1,0,$L42*$H$7) -> 0 | P42: =IF(COUNTBLANK(I42)=1,0,$L42*$I$7) -> 2
B44: =L44/L$50 -> 0.16666667 | C44: C10 : proposer l’architecture d’un ouvrage, d’une installation, d’un équipement électrique | F44: =K44/L44 -> 0.65625 | K44: =SUM(K45:K48) -> 5.25 | L44: =SUM(L45:L48) -> 8
C45: Les solutions techniques proposées respectent les spécifications du client/utilisateur, les contraintes normatives et réglementaires | D45: B2 | E45: =IF(VLOOKUP($D45,BDD_Questions!$A$8:$L$81,2,FALSE)=0,"",VLOOKUP($D45,BDD_Questions!$A$8:$L$81,2,FALSE)) -> Chaîne de puissance / Gestion et performance énergétique / Argumenter une solution de gestion, d’optimisation de la consommation | F45: =IF(VLOOKUP($D45,BDD_Questions!$A$8:$L$81,5,FALSE)=0,"",VLOOKUP($D45,BDD_Questions!$A$8:$L$81,5,FALSE)) | G45: =IF(VLOOKUP($D45,BDD_Questions!$A$8:$L$81,7,FALSE)=0,"",VLOOKUP($D45,BDD_Questions!$A$8:$L$81,7,FALSE)) | H45: =IF(VLOOKUP($D45,BDD_Questions!$A$8:$L$81,9,FALSE)=0,"",VLOOKUP($D45,BDD_Questions!$A$8:$L$81,9,FALSE)) | I45: =IF(VLOOKUP($D45,BDD_Questions!$A$8:$L$81,11,FALSE)=0,"",VLOOKUP($D45,BDD_Questions!$A$8:$L$81,11,FALSE)) -> x | K45: =IF(COUNTBLANK(F45) + COUNTBLANK(G45) + COUNTBLANK(H45)+ COUNTBLANK(I45 )= 3,SUM(M45:P45),"erreur") -> 1 | L45: =VLOOKUP($D45,BDD_Questions!$A$8:$L$81,12,FALSE) -> 1 | M45: =IF(COUNTBLANK(F45)=1,0,$L45*$M$7) -> 0 | N45: =IF(COUNTBLANK(G45)=1,0,$L45*$G$7) -> 0 | O45: =IF(COUNTBLANK(H45)=1,0,$L45*$H$7) -> 0 | P45: =IF(COUNTBLANK(I45)=1,0,$L45*$I$7) -> 1
...

Sheet BDD_Questions
B2: U4 : conception - étude préliminaire
E3: ='données Admin'!C10 -> 2022
E4: ='données Admin'!C12 -> Prénom 1 | I4: ='données Admin'!C14 -> Nom 1
E5: ='données Admin'!C18 -> A2022 0000 0000
A7: Question | B7: Connaissance ou capacité exigible | C7: Eléments de correction / Indicateurs | D7: Compétence non acquise | E7: ='niveau d''évaluation'!F8 -> 0 | F7: Compétence en cours d'acquisition non stabilisée | G7: ='niveau d''évaluation'!F11 -> 0.4 | H7: Compétence partiellement aquise | I7: ='niveau d''évaluation'!F14 -> 0.75 | J7: Compétence totalement acquise et transférable | K7: ='niveau d''évaluation'!F17 -> 1 | L7: Poids de la question | N7: Commentaires
A8: A1 | B8: Savoir faire un bilan de puissance (page 80) | C8: • Identifier les bonnes valeurs des puissances actives nominales (1250, 18x10 et 10x50 kW) • Utiliser correctement le facteur Ku • Utiliser le facteur Ks pour chaque atelier et pour le TGBT1 (Ptraiteur = 000 kW ; Pboulangerie = 272 kW ; PTGBT1 = 0,8x(1000+272) =1 018 kW) | F8: 1 des éléments est correctement appliqué | H8: 2 éléments sont appliqués | J8: les 3éléments sont appliqués | K8: x | L8: 1
A9: A2 | B9: Connaître et utiliser les différentes expressions des puissances (p 80) | C9: • Connaitre la définition du facteur de puissance Fp=P/S • Exploiter la relation pour poser le calcul S • Faire le calcul numérique juste • Exprimer le résultat dans la bonne unité (VA) (S=1094 VA) | F9: La définition du Fp est écrite | H9: Le calcul est posé | I9: x | J9: Le calcul est posé, le résultast juste avec la bonne unité | L9: 1
A10: A3 | B10: Savoir faire un bilan de puissance (p 80) | C10: - La puissance apparente nominale du transformateur de 2000 kVA est citée. - La consommation potentielle de 1800 kVA des deux TGBT est calculée. - la comparaison est faite et la conclusion est donnée | F10: 1 indicateur est présent | H10: 2 indicateurs sont présents | J10: Les 3 indicateurs sont présents | K10: x | L10: 0.5
A11: A4 | B11: Définir le réseau triphasé équilibré (p 79) | C11: • Identifier U1 = 20 kV • Utiliser de la bonne colonne correspondant à 2000 kVA • Savoir que U2v est légèrement supérieur à 400 V donc 410 V dans le tableau | E11: x | F11: 1 indicateurs est présent | H11: 2 indicateurs sont présents | J11: Les 3 indicateurs sont présents | L11: 0.5
A12: A5 | B12: Exploiter les informations de la plaque signalétique d’un transformateur (p 82) | C12: • Analyser la question en posant un calcul à partir de la puissance apparente • Connaitre l’expression de la puissance S apparente en fonction des couples U1, I1n, U2, I2n • Réaliser le calcul (I1n = 57,7 A, I2n = 2816 A) • Valider le résultat de I2n en le comparant aux 2816 A donnés dans le tableau. | F12: Démarrer une démarche à partir de la puissance apparente | G12: x | H12: Poser le calcul de I1n et I2n : Les valeurs sont justes mais non commentées / Les valeurs sont érronée mais un commentaire approprié est proposé | J12: Les valeurs sont justes et le commentaire adapté | L12: 2
A13: A6 | B13: Définir le rapport de transformation (p 82) | C13: • Restituer la connaissance de la définition de m • Calculer la valeur de m (m = 0,0205) | F13: formule de m | H13: valeur approchée U2/U1 ou V2/V1 | I13: x | J13: valeur exacte U2v/U1 ou V2v/V1 | L13: 1
A14: A7 | B14: Établir le bilan de puissance à partir d’un essai à vide et d’un essai en court-circuit (p 82) | C14: Démarche expérimentale : . Matériel : source d'alimentation en tension variable, voltmètre, ampèremetre (wattmètre). . Montage : Voltmètre et ampèremetre placés au primaire, court-circuit franc au secondaire (schéma éventuel). . Etapes : Initialement l'alimentation est réglée au minimum, puis la tension est augmentée lentement jusqu'à ce que la mesure de I1cc corresponde à I1n. (. Interprétation : la mesure de U1 correspond alors à U1cc.) | F14: Un seul élément (matériel, montage ou étapes) est décrit et juste. | H14: Deux éléments (matériel, montage ou étapes) sont décrits et juste ou Les 3 éléments (matériel, montage, étapes) sont décrits mais incomplets | J14: Les 3 éléments (matériel, montage, étapes) sont décrits et juste. | K14: x | L14: 2
A15: A8 | B15: Exploiter les informations de la plaque signalétique d’un transformateur (P82) | C15: • Extraire la valeur Ucc(%) dans le tableau (6%). • S’approprier la définition donnée dans l’énoncé pour poser une relation entre U1cc, Ucc(%) et U1n (U1cc = Ucc(%)xU1n). • Obtenir la valeur de U1cc (U1cc = 1200 V) • Connaître la relation entre tension simple et tension composée • Calculer la valeur de V1cc (V1cc = 693 V) | F15: La valeur de Ucc(%) est proposée ou une relation faisant intervenir les 3 grandeurs (U1cc, Ucc(%) et U1n) est proposée mais fausse. | H15: La relation litérale ou numérique entre les 3 grandeurs (U1cc, Ucc(%) et U1n) est proposée et juste mais le calcul non abouti. | J15: Le calcul de U1cc est juste. | K15: x | L15: 1
A16: A9 | B16: Exploiter le modèle de Kapp (p 83) | C16: • Représenter le court-circuit • Exploiter que V2 est nulle • Ecrire une loi des mailles faisant intervenir les 4 grandeurs (m x V1cc = Zs x I2cc) | F16: 1 des indicateurs est présent | H16: 2 des indicateurs est présents | I16: X | J16: Les 3 indicateurs sont présents et la relation est juste | L16: 1
A17: A10 | B17: Exploiter le modèle de Kapp (p 83) | C17: • Réaliser la transformation de l’expression littérale pour obtenir I2cc en fonction des autres grandeurs. • Comprendre que V1CC prend la valeur nominale de 11 500 V. • Réaliser le calcul numérique (I2cc = 46,8 kA) | H17: formule | I17: x | J17: formule +valeur exacte | L17: 1
A18: A11 | B18: Chaîne de puissance/Distribution du point de livraison à la sortie du TGBT/Dimensionner un ouvrage, une installation électrique | C18: • Citer que le pouvoir de coupure des disjoncteurs doit être supérieur au courant de court-ciurcuit calculé. | F18: Le lien entre le pouvoir de coupure et I2cc est fait, mais pas dans le bon sens | J18: Le lien entre le pouvoir de coupure et I2cc est fait et dans le bon sens | K18: x | L18: 1
A19: B1 | B19: Dimensionner une batterie de condensateurs pour compenser la puissance réactive. (p 83) | C19: . Préciser la valeur attendue pour le cosj, cosj > 0,93 d'après le cdc DTEC1 D'après DRES2: .Calculer la valeur de tanj en utilisant les données fournies en introduction de la partie B .Calculer la puissance de la batterie de condensateurs, avec la relation: Q = Px(tanj-tanj), 322 kvar ou .calculer la puissance réactive totale de l'installation compensée (Q=408kvar). .Appliquer le théorème de Boucherot (Q=Qc+QTGBT1 => Qc = -322 kvar). . la puissance réactive fournie est l'opposée de la puissance consommée,donc positive. | F19: La relation Q=Px(tanj-tanj') est précisée ainsi que la valeur attendue pour cosj' mais l'application numérique est erronnée ou absente. Ou La démarche par la méthode de Boucherot est initiée mais très incomplète. | G19: x | H19: La puissance de la batterie de condensateurs est calculée à l'aide de la relation Q=Px(tanj-tanj'), le résultat est correct mais le détail des calculs est insuffisant. Ou La démarche par la méthode de Boucherot est largement initiée mais incomplète. | J19: L'ensemble des étapes sont réalisées, quelle que soit la démarche. | L19: 1
A20: B2 | B20: Chaîne de puissance / Gestion et performance énergétique / Argumenter une solution de gestion, d’optimisation de la consommation | C20: . Citer la condition d'installation d'une compensation automatique, Qcondo > 15% de S source. . Préciser que cette condition est remplie car Qcondo/Ssource = 25,7% | J20: La condition d'installation est citée et il est établie qu'elle est remplie. | K20: x | L20: 1
A21: B3 | B21: Chaîne de puissance / Gestion et performance énergétique / Argumenter une solution de gestion, d’optimisation de la consommation | C21: . Préciser que les entraînement à vitesses variables génèrent des harmoniques . Préciser les puissances installées pour les motorisations à vitesses variables, d'après DTEC1 : 180kW pour l'atelier boulangerie et 1250kW pour l'atelier traiteur . Calculer la puissance des générateurs harmoniques Gh en utilisant les propotions d'entraînements à vitesses variables fournies en introduction de la partie B : 30% de 180kW pour l'atelier boulangerie et 20% de 1250kW pour l'atelier traiteur, au total Gh = 304 kW . Citer la condition qui correspond à un réseau peu pollué : d'après DRES2 Gh/Sn compris entre 15% et 25% . Préciser que la condition est remplie pour un réseau peu pollué : Gh/Sn = 304/1254 = 24,2% | E21: x | F21: Les conditions pour estimer la pollution du réseau sont citées (tableau DRES2), mais le rapport Gh/Sn est inexact ou inexistant. | H21: Gh ets calculée, le résultat est correct , le réseau est estimé "peu pollué" mais la justification est incomplète. | J21: Le réseau est estimé "peu pollué", la justification est correcte : Gh est calculée, le résultat est correct et les calculs sont détaillés, cette valeur est comparée à la puissance apprente du TGBT, il est précisé que la proportion obtenue est comprise entre 15% et 25%. | L21: 2
A22: B4 | B22: Chaîne de puissance/Distribution du point de livraison à la sortie du TGBT/Dimensionner un ouvrage, une installation électrique | C22: . Calculer le courant nominal pour la batterie de condensateurs, selon DRES2, In = 577 A . Préciser que dans le pire des cas le courant maximum pour la batterie est Imp = 1,8 x In, DRES2, 1039 A | F22: Les courants nominal et maximum sont calculés, le courant nominal est correct mais le rapport entre Imp et In n'est pas le bon, les claculs sont détaillés. | G22: x | J22: Les courants nominal et maximum sont calculés, les résultats sont corrects et les calculs sont détaillés. | L22: 2
A23: B5 | B23: Chaîne de puissance/Distribution du point de livraison à la sortie du TGBT/Dimensionner un ouvrage, une installation électrique | C23: . Enoncer la contrainte à respecter pour choisir le calibre d'un disjoncteur, le calibre doit être supérieur au courant d'emploi . Proposer une valeur de calibre immédiatement supérieure au courant d'emploi, 1000A (très proche de 1039A qui a été déterminé par excès). | F23: Le calibre proposé est immédiatemment supérieur au courant nominal des condensateurs et non au courant maximum. | H23: Le calibre proposé est immédiatemment supérieur au courant d'emploi mais la contrainte de choix n'est pas énoncée. | J23: La contrainte de choix est énoncée et le calibre proposé est immédiatemment supérieur au courant d'emploi. | K23: x | L23: 1
A24: B6 | B24: Chaîne de puissance/Distribution du point de livraison à la sortie du TGBT/Dimensionner un ouvrage, une installation électrique | C24: . Enoncer la contrainte à respecter pour choisir le courant de coupure ultime Icu d'un disjoncteur, Icu > Ik3 avec Ik3 courant de court-circuit triphasé présumé au point de raccordement du disjoncteur, 28,4kA selon les données de la partie B. . Proposer une valeur de courant de coupure ultime immédiatement supérieure à IK3, 50kA | F24: 1 | J24: La contrainte de choix est énoncée, Icu>Ik3 et le courant de coupure ultime Icu proposé est immédiatemment supérieur à Ik3, 50kA. | K24: x | L24: 2
A25: B7 | B25: Chaîne de puissance / Gestion et performance énergétique / Concevoir des schémas de raccordement des matériels relatifs à la qualité, à la gestion de l’énergie | C25: . Les éléments de la chaîne de puissance du dispositif de compensation sont représentés : o plusieurs circuits de condensateurs sont représentés o chaque circuit est constitué en série d'un gradin de condensateur, d'une self, d'un contacteur o chaque circuit est raccordé au jeu de barres o chaque circuit est protégé par un disjoncteur . Les éléments de la chaîne d'information du dispositif de compensation sont représentés : o la commande du relais varmétrique sur les contacteurs est représenté o le relais varmétrique est relié à un TC et celui-ci est placé en amont du jeu de barre o le relais varmétrique est relié au réseau pour la mesure de tension, la connection s'effectue en amont du jeu de barre | F25: Un ou deux éléments sont manquant, le raccordement des éléments présents sont correctes. | H25: Tout les élements des chaînes de puissances et d'informations sont représentés, la majorité (une ou deux erreurs) des raccordements sont corrects. | I25: x | J25: Tout les élements des chaînes de puissances et d'informations sont représentés, leurs raccordements sont corrects. | L25: 3 | N25: Représentation possible pour le dispositif de compensation de l'énergie réactive.
A26: C1 | B26: Définir les grandeurs cinématiques (page 84) | C26: • Relever les données dans l’énoncé (cadences et longueurs) • Interpréter la notion de cadence : calculer la période de passage des plateaux T= 1/cadence = 1/360 h = 10s. • Exploiter la relation V=D/T • Comprendre que la distance D est égale à la longueur du plateau + espace. • Poser et réaliser le calcul | E26: x | F26: T ou D est calculé ou la relation V=D/T est posée. | H26: La relation est posée et une des deux valeurs de D ou T est calculée. Ou Les deux valeurs de D et T sont calculées mais la relation non posée | J26: Le calcul est abouti | L26: 2
A27: C2 | B27: Dimensionner les éléments de conversion de mouvement (p 84) | C27: • Exploiter la relation V=RW • Analyser le schéma ou l’énoncé pour déterminer R = 100 mm • Poser le calcul de W (W = 52 rad.min-1) • Convertir la vitesse angulaire W en la vitesse de rotation na (na = 8,3 tr,min-1) | E27: x | F27: La relation retenue pour amorcer la démarche est bien V = RW Ou La conversion rad/min <> tour/min est correctement effectuée | H27: W est calculé | J27: Les deux grandeurs sont calculées | L27: 2
A28: C3 | B28: Calculer le moment d’un force (p 84) | C28: • Utiliser les justifications : o Régime permanent = accélérations nulles o Les moments des couples appliqués à l’arbre se compensent o Le moment du couple utile est égal au moment du couple résistant o Principe fondamental de la dynamique o … | E28: x | F28: Une amorce de justification est donnée | J28: La justification est complète | L28: 1
A29: C4 | B29: Définir les grandeurs cinématiques (p 84) | C29: • Poser que dW=W-0=0,87 rad/s • Interpréter que dt=td=t1=0,50s • Poser le calcul littéral ou numérique juste • Réaliser l’application numérique • Exprimer le résultat en rad/s² (dw/dt = 1,74 rad.s-2) | F29: Une amorce de calcul est posée avec dW ou dt, ou un résultat est exprimé dans la bonne unité | H29: Le calcul est abouti mais l'unité correspondante Ou Le calcul est posé avec une erreur dans dW ou dt mais le résultat est exprimé avec la bonne unité. | J29: Le calcul est abouti | K29: x | L29: 2
A30: C5 | B30: Appliquer le principe fondamental de la dynamique (p 85) | C30: • S’approprier l’énoncé en retrouvant J et Ma • Poser le calcul cohérent avec la réponse B5. • Réaliser l’application numérique. (Mmax = 160 x 1,74 + 200 = 480 Nm environ) | F30: Une seule des trois grandeurs est correctement identifiée dans le texte, mais le calcul est cohérent | H30: Le calcul est correctement posé mais le résultat numérique faux Ou Une des grandeurs (J, Ma, dw/dt) est mal identifiée dans le texte, mais la calcul effectué est cohérent. | J30: Le calcul est abouti | K30: x | L30: 1
A31: C6 | B31: Calculer le moment d’un force (p 84) | C31: • Identifier la bonne colonne • Utiliser la bonne unité (Mapk = 220 Nm) valoriser la conclusion (négative) | H31: Le moment du couple relevé est le bon sans la bonne unité. | J31: Le moment du couple relevé est le bon et écrit avec la bonne unité. | K31: x | L31: 2
A32: C7 | B32: Appliquer le principe fondamental de la dynamique (p 85) | C32: • Appuyer l’argumentation sur la relation du principe fondamental de la dynamique donnée en question 5. • Identifier que le seul paramètre réglable est dt dans la relation, soit t1 • Mener un calcul d’une nouvelle valeur de t1. | F32: La justification sur le choix du paramètre n’est pas donné. | H32: Le paramètre à régler est le bon, la justification de ce choix est pertinente. Le calcul du temps de démarrage est inexact. | J32: La démarche est aboutie | K32: x | L32: 2 | N32: dt = J x dW / (Mmax-Ma) = 160 x 0,87 / (220 - 200 ) = 7 s environ
A33: D1 | B33: Ressources et outils professionnels / Ressources documentaires & Caractéristiques des infrastructures | C33: . Trois postes sont représentés : o un poste de dépose du pain est situé à l'entrée du convoyeur o un poste de beurrage est situé juste après le poste de dépose du pain o un poste de tranchage est situé juste après le poste de beurrage, il semble logique de trancher après avoir beurrer | F33: Il manque un poste ou deux postes sont intervertis. | J33: Les postes sont convenablement positionnés. | K33: x | L33: 2 | N33: Représentation possible pour l'organisation du convoyeur C4 :
A34: D2 | B34: Ressources et outils professionnels / Ressources documentaires & Caractéristiques des infrastructures | C34: . La longueur du convoyeur C4 est calculée, 6500mm : o les longueurs des postes sont précisées, selon cdc du DTEC2 --> dépose pain 1500mm, beurrage 2000mm, tranchage 2000mm o l'espacement des postes est précisés, selon DTEC2 --> longueur d'un plateau 500 mm | F34: La longueur du convoyeur n'est pas exacte, erreur minime, ou les calculs ne sont pas détaillés. | H34: La longueur du convoyeur n'est pas exacte, erreur minime, mais les calculs sont détaillés. | J34: la longueur du convoyeur est exacte, le calcul est détaillé. | K34: x | L34: 2
A35: D3 | B35: Chaîne de puissance / Fonctions d'usage. | C35: Préciser que les unités mécatroniques retenues possèdent déjà un variateur intégré. | J35: La justification est correcte. | K35: x | L35: 1
A36: D4 | B36: Chaîne de puissance / Fonctions d'usage. | C36: . Un flux est représenté pour alimenter l'ensemble des unités DSC, MW1020, MW1030, MW1042, MW1043 et MW1051 : o il provient d'une source triphasée 400V o il passe par un disjoncteur o il ne passe pas par le contrôleur MOVIFIT . Un flux est représenté pour alimenter l'unité SNI MW1041 : o il provient d'une source triphasée 400V o il passe par un disjoncteur o il passe pas par le contrôleur MOVIFIT | F36: Seulement l'un des deux flux (SNI ou DSC) est convenablement représenté. | G36: x | J36: Tous les flux (SNI et DSC) sont convenablement représentés | L36: 2 | N36: Une représentation possible pour les flux.
A37: D5 | B37: Chaîne de puissance / Distribution. | C37: . Le courant absorbé par chaque unité mécatronique est précisé , 1,52A pour chaque unité DSC ou SNI. . Les courants d'emploi des deux circuits protégés par les disjoncteurs sont calculés : o 1 unité SNI pour un premier circuit, 1,52A o 5 unité DSC pour un deuxième circuit, 5 x 1,52 = 7,6A | E37: x | F37: Le courant absorbé par une unité est précisé mais les courants absorbés par les deux circuits sont incorrects. | H37: Le courant absorbé par une unité est précisé et les courants sont exacts pour les deux circuits, les calculs ne sont pas assez détaillés. | J37: Le courant absorbé par une unité est précisé et les courants sont exacts pour les deux circuits, les calculs sont détaillés. | L37: 1
A38: D6 | B38: Chaîne d'informations / Architecture d'un réseau de communicaton | C38: . Un flux est représenté pour faire communiquer les unités DSC, MW1020, MW1030, MW1042, MW1043 et MW1051 et le contrôleur MOVIFIT . Un deuxième flux est représenté pour faire communiquer l'unité SNI MW1041 et le contrôleur MOVIFIT. | F38: Seulement l'un des deux flux (SNI ou DSC) est convenablement représenté. | J38: Tous les flux (SNI et DSC) sont convenablement représentés | K38: x | L38: 1 | N38: Une représentation possible pour les flux.
A39: D7 | B39: Chaîne d'informations / Architecture d'un réseau de communicaton | C39: . La longueur du convoyeur est énoncée, 17,3 m DTEC 4 . La condition pour obtenir le débit maximum du contrôleur MOVIFIT est énoncée, longueur maximum < 25m . Le débit maximum est donné en comparant la longueur installée et la longueur à ne pas dépasser, 1 Mbaud / seconde | E39: x | J39: La valeur du débit est exact la justification est correcte. | L39: 1
A40: D8 | B40: Ressources et outils professionnels / Techniques de chiffrage d'un équipement électrique | C40: Calculer les coût de mise en œuvre des unités d'entrainements des convoyeurs | F40: Une ou deux erreurs et/ou les calculs ne sont pas assez détaillés | H40: Une erreur et les calculs sont détaillés | J40: Le résultat final est exact et les calculs sont détaillés | K40: x | L40: 2
L41: =SUM(L8:L40) -> 48
